BEGIN:VCALENDAR
VERSION:2.0
PRODID:-//JAN - ECPv6.15.14//NONSGML v1.0//EN
CALSCALE:GREGORIAN
METHOD:PUBLISH
X-ORIGINAL-URL:https://janonline.com
X-WR-CALDESC:Events for JAN
REFRESH-INTERVAL;VALUE=DURATION:PT1H
X-Robots-Tag:noindex
X-PUBLISHED-TTL:PT1H
BEGIN:VTIMEZONE
TZID:Africa/Johannesburg
BEGIN:STANDARD
TZOFFSETFROM:+0200
TZOFFSETTO:+0200
TZNAME:SAST
DTSTART:20210101T000000
END:STANDARD
END:VTIMEZONE
BEGIN:VEVENT
DTSTART;TZID=Africa/Johannesburg:20220128T170000
DTEND;TZID=Africa/Johannesburg:20220128T183000
DTSTAMP:20260420T155013
CREATED:20220114T105246Z
LAST-MODIFIED:20220114T143351Z
UID:39805-1643389200-1643394600@janonline.com
SUMMARY:Book Signing at Ellerman House
DESCRIPTION:JOIN ME FOR AN EXCLUSIVE BOOK SIGNING AT ELLERMAN HOUSE \nTo celebrate JAN the Journal’s fourth year of publication\, I’m hosting a small gathering at one of Cape Town’s most beautiful destinations. Meet me for an intimate event of wine and h’ors d’oeuvres where I will personally be signing JAN the Journal Volume 8 in Ellerman’s breath-taking wine gallery. This event is limited to only 28 guests\, so make sure you book your ticket soon! \n  \nTicket price includes bubbly and h’ors d’oeuvres upon arrival\, and a bottle of JAN Wine to take with you. Journals will be available to purchase at the venue. \nRequirements: Every guest must be vaccinated or provide proof of a negative Covid test \nPlease note that there is no parking at the venue\, so you are encouraged to make alternative transport arrangements.
URL:https://janonline.com/event/book-signing-at-ellerman-house/
LOCATION:The Wine Gallery at Ellerman House
CATEGORIES:Book Signing
END:VEVENT
END:VCALENDAR