BEGIN:VCALENDAR
VERSION:2.0
PRODID:-//JAN - ECPv6.15.14//NONSGML v1.0//EN
CALSCALE:GREGORIAN
METHOD:PUBLISH
X-WR-CALNAME:JAN
X-ORIGINAL-URL:https://janonline.com
X-WR-CALDESC:Events for JAN
REFRESH-INTERVAL;VALUE=DURATION:PT1H
X-Robots-Tag:noindex
X-PUBLISHED-TTL:PT1H
BEGIN:VTIMEZONE
TZID:Africa/Johannesburg
BEGIN:STANDARD
TZOFFSETFROM:+0200
TZOFFSETTO:+0200
TZNAME:SAST
DTSTART:20210101T000000
END:STANDARD
END:VTIMEZONE
BEGIN:VEVENT
DTSTART;TZID=Africa/Johannesburg:20220205T110000
DTEND;TZID=Africa/Johannesburg:20220205T130000
DTSTAMP:20260420T135129
CREATED:20220128T133751Z
LAST-MODIFIED:20220128T150014Z
UID:40661-1644058800-1644066000@janonline.com
SUMMARY:Masterclass at JAN Innovation Studio
DESCRIPTION:Join Jan Hendrik for a live\, in-person masterclass at the beautiful JAN Innovation Studio in Cape Town on Saturday 5 February 2022. The day will include a live cooking demo from Jan Hendrik\, a cheese and wine pairing experience in the famous JAN cheese room\, and a JAN the Journal Volume 8 and scented JAN candle to take home with you.
URL:https://janonline.com/event/masterclass-at-jan-innovation-studio/
LOCATION:JAN Innovation Studio\, 87 Kloof Street\, Gardens\, Western Cape\, 8001\, South Africa
CATEGORIES:Book Signing
ATTACH;FMTTYPE=image/jpeg:https://janonline.com/cdn-cgi/imagedelivery/e_I_xgjIBhYRw2msxXMtyA/56f9c460-f7af-477e-02d7-0cc4127ff700/w=9999
END:VEVENT
END:VCALENDAR